BEGIN:VCALENDAR
VERSION:2.0
PRODID:-//wp-events-plugin.com//7.2.3.1//EN
TZID:America/New_York
X-WR-TIMEZONE:America/New_York
BEGIN:VEVENT
UID:4@hbcuheroes.org
DTSTART;VALUE=DATE:20251001
DTEND;VALUE=DATE:20251002
DTSTAMP:20250916T144125Z
URL:https://hbcuheroes.org/events/onsemi-x-hbcu-heroes-webinar-resume-revi
 ew/
SUMMARY:Onsemi x HBCU Heroes Webinar – Resume Review
DESCRIPTION:Corporate recruiters from Onsemi provide hands-on guidance to r
 efine resumes. Students receive practical advice to highlight skills\, imp
 rove formatting\, and align resumes with employer expectations
ATTACH;FMTTYPE=image/jpeg:https://hbcuheroes.org/wp-content/uploads/2025/0
 9/hbcu.webp
CATEGORIES:Events
END:VEVENT
END:VCALENDAR