BEGIN:VCALENDAR
VERSION:2.0
PRODID:-//wp-events-plugin.com//7.2.3.1//EN
TZID:America/New_York
X-WR-TIMEZONE:America/New_York
BEGIN:VEVENT
UID:11@hbcuheroes.org
DTSTART:20250930T183000Z
DTEND:20250930T200000Z
DTSTAMP:20250924T143438Z
URL:https://hbcuheroes.org/events/join-hbcu-heroes-and-onsemi-black-employ
 ees-network-on-september-30-for-a-fun-hbcu-week-celebration/
SUMMARY:Join HBCU Heroes and onsemi Black Employees Network on September 30
  for a fun HBCU Week Celebration!
DESCRIPTION:Mark your calendars for an exciting HBCU Week celebration on Se
 ptember 30th\, hosted by onsemi and the Black Employee Network (BEN). This
  event is a great opportunity to connect\, network\, and celebrate excelle
 nce within the HBCU community.\n\nDon’t miss out—secure your spot toda
 y! RSVP Here.
ATTACH;FMTTYPE=image/jpeg:https://hbcuheroes.org/wp-content/uploads/2025/0
 7/HBCUHeroesEvents3.png
CATEGORIES:Events
END:VEVENT
END:VCALENDAR