BEGIN:VCALENDAR
VERSION:2.0
PRODID:-//wp-events-plugin.com//7.2.3.1//EN
TZID:America/New_York
X-WR-TIMEZONE:America/New_York
BEGIN:VEVENT
UID:2@hbcuheroes.org
DTSTART:20250813T000000Z
DTEND:20250813T235900Z
DTSTAMP:20250920T124822Z
URL:https://hbcuheroes.org/events/hbcu-heroes-x-special-needs-network-beat
 -the-summer-blues-youth-webinar-series/
SUMMARY:HBCU Heroes x SN Network
DESCRIPTION:A 2-week program designed for youth ages 13–19 to build emoti
 onal resilience and learn positive ways to handle stress\, anxiety\, and i
 solation. Students complete six hours of interactive online training acros
 s two schedule options and earn an official Certificate of Completion for 
 use on resumes\, job\, and college applications.
ATTACH;FMTTYPE=image/jpeg:https://hbcuheroes.org/wp-content/uploads/2025/0
 9/1104-2.webp
CATEGORIES:Events
END:VEVENT
END:VCALENDAR