BEGIN:VCALENDAR
VERSION:2.0
PRODID:-//wp-events-plugin.com//7.2.3.1//EN
TZID:America/New_York
X-WR-TIMEZONE:America/New_York
BEGIN:VEVENT
UID:5@hbcuheroes.org
DTSTART;VALUE=DATE:20250926
DTEND;VALUE=DATE:20250927
DTSTAMP:20250920T125911Z
URL:https://hbcuheroes.org/events/gen-x-hbcu-heroes-career-prep-webinar-mo
 ck-interview/
SUMMARY:GEN X HBCU Heroes Career Prep Webinar
DESCRIPTION:Students practice answering real interview questions in a suppo
 rtive environment. Corporate mentors provide feedback on communication\, b
 ody language\, and professionalism to prepare candidates for real-world in
 terviews
ATTACH;FMTTYPE=image/jpeg:https://hbcuheroes.org/wp-content/uploads/2025/0
 9/1104-3.webp
CATEGORIES:Events
END:VEVENT
END:VCALENDAR