BEGIN:VCALENDAR
VERSION:2.0
PRODID:-//wp-events-plugin.com//7.2.3.1//EN
TZID:America/New_York
X-WR-TIMEZONE:America/New_York
BEGIN:VEVENT
UID:3@hbcuheroes.org
DTSTART;VALUE=DATE:20250929
DTEND;VALUE=DATE:20250930
DTSTAMP:20250916T144029Z
URL:https://hbcuheroes.org/events/from-finals-to-first-paycheck-getting-ca
 reer-ready-fast/
SUMMARY:From Finals to First Paycheck: Getting Career-Ready Fast
DESCRIPTION:A career-prep session to help students transition from academic
  life into the workforce. Participants will learn job search strategies\, 
 resume optimization tips\, and insights into landing their first role quic
 kly.
ATTACH;FMTTYPE=image/jpeg:https://hbcuheroes.org/wp-content/uploads/2025/0
 9/hbcu.webp
CATEGORIES:Events
END:VEVENT
END:VCALENDAR