BEGIN:VCALENDAR
VERSION:2.0
PRODID:-//wp-events-plugin.com//7.2.3.1//EN
TZID:America/New_York
X-WR-TIMEZONE:America/New_York
BEGIN:VEVENT
UID:16@hbcuheroes.org
DTSTART:20251005T163000Z
DTEND:20251005T173000Z
DTSTAMP:20251003T203359Z
URL:https://hbcuheroes.org/events/event/
SUMMARY:Event
DESCRIPTION:Description
END:VEVENT
END:VCALENDAR