BEGIN:VCALENDAR
VERSION:2.0
PRODID:-//wp-events-plugin.com//7.2.3.1//EN
TZID:America/New_York
X-WR-TIMEZONE:America/New_York
BEGIN:VEVENT
UID:9@hbcuheroes.org
DTSTART:20250923T173000Z
DTEND:20250923T193000Z
DTSTAMP:20250923T092413Z
URL:https://hbcuheroes.org/events/docusign-x-hbcu-heroes-webinar/
SUMMARY:DocuSign X HBCU Heroes Webinar
DESCRIPTION:Event Overview\nJoin us for an exclusive DocuSign x HBCU Heroes
  Webinar\, designed to empower HBCU students and young professionals with 
 the tools\, strategies\, and confidence to thrive in today’s digital wor
 kplace.\n\nThrough this interactive session\, participants will learn how 
 technology is shaping the future of work\, discover best practices for bui
 lding a career in leading industries\, and gain valuable insights directly
  from DocuSign leaders and recruiters.\n\nWhat You’ll Gain:\n\n🌟 Care
 er insights from DocuSign executives and hiring teams\n\n📝 Tips on navi
 gating digital transformation in the workplace\n\n🤝 Networking opportun
 ities with mentors and professionals\n\n🎯 Guidance on preparing for int
 ernships and full-time roles\n\nWho Should Attend:\n\nCurrent HBCU student
 s\n\nRecent graduates\n\nYoung professionals seeking career growth opportu
 nities\n\nWhy Attend?\nThis webinar is part of HBCU Heroes’ mission to c
 onnect top diverse talent with global corporations driving real impact. By
  partnering with DocuSign\, we’re creating new pathways to internships\,
  jobs\, and mentorships that can launch meaningful careers.
ATTACH;FMTTYPE=image/jpeg:https://hbcuheroes.org/wp-content/uploads/2025/0
 7/HBCUHeroesEvents4.png
CATEGORIES:webinar
END:VEVENT
END:VCALENDAR