BEGIN:VCALENDAR
VERSION:2.0
PRODID:-//wp-events-plugin.com//7.2.3.1//EN
TZID:America/New_York
X-WR-TIMEZONE:America/New_York
BEGIN:VEVENT
UID:18@hbcuheroes.org
DTSTART;TZID=America/New_York:20251028T150000
DTEND;TZID=America/New_York:20251028T163000
DTSTAMP:20251011T020501Z
URL:https://hbcuheroes.org/events/ai-for-resume-revamps-tailor-your-resume
 -for-specific-roles-tuesday-october-28-2025-300-430-pm-et/
SUMMARY:AI for Resume Revamps — Tailor Your Resume for Specific Roles Tue
 sday\, October 28\, 2025 | 3:00–4:30 PM ET
DESCRIPTION:RSVP now for a chance to win up to $500.
END:VEVENT
BEGIN:VTIMEZONE
TZID:America/New_York
X-LIC-LOCATION:America/New_York
BEGIN:DAYLIGHT
DTSTART:20250309T030000
TZOFFSETFROM:-0500
TZOFFSETTO:-0400
TZNAME:EDT
END:DAYLIGHT
END:VTIMEZONE
END:VCALENDAR